BEGIN:VCALENDAR
VERSION:2.0
PRODID:-//IMPACT-MH - ECPv6.15.13//NONSGML v1.0//EN
CALSCALE:GREGORIAN
METHOD:PUBLISH
X-WR-CALNAME:IMPACT-MH
X-ORIGINAL-URL:https://impact-mh.org
X-WR-CALDESC:Events for IMPACT-MH
REFRESH-INTERVAL;VALUE=DURATION:PT1H
X-Robots-Tag:noindex
X-PUBLISHED-TTL:PT1H
BEGIN:VTIMEZONE
TZID:UTC
BEGIN:STANDARD
TZOFFSETFROM:+0000
TZOFFSETTO:+0000
TZNAME:UTC
DTSTART:20240101T000000
END:STANDARD
END:VTIMEZONE
BEGIN:VEVENT
DTSTART;TZID=UTC:20250310T150000
DTEND;TZID=UTC:20250310T160000
DTSTAMP:20260421T212429
CREATED:20250226T002550Z
LAST-MODIFIED:20250306T205853Z
UID:2274-1741618800-1741622400@impact-mh.org
SUMMARY:Dr. Godfrey Pearlson: Lessons from the B-SNIP Consortium
DESCRIPTION:
URL:https://impact-mh.org/event/dr-godfrey-pearlson-lessons-from-the-b-snip-consortium/
END:VEVENT
END:VCALENDAR