BEGIN:VCALENDAR
VERSION:2.0
PRODID:-//IMPACT-MH - ECPv6.15.13//NONSGML v1.0//EN
CALSCALE:GREGORIAN
METHOD:PUBLISH
X-WR-CALNAME:IMPACT-MH
X-ORIGINAL-URL:https://impact-mh.org
X-WR-CALDESC:Events for IMPACT-MH
REFRESH-INTERVAL;VALUE=DURATION:PT1H
X-Robots-Tag:noindex
X-PUBLISHED-TTL:PT1H
BEGIN:VTIMEZONE
TZID:America/New_York
BEGIN:DAYLIGHT
TZOFFSETFROM:-0500
TZOFFSETTO:-0400
TZNAME:EDT
DTSTART:20240310T070000
END:DAYLIGHT
BEGIN:STANDARD
TZOFFSETFROM:-0400
TZOFFSETTO:-0500
TZNAME:EST
DTSTART:20241103T060000
END:STANDARD
BEGIN:DAYLIGHT
TZOFFSETFROM:-0500
TZOFFSETTO:-0400
TZNAME:EDT
DTSTART:20250309T070000
END:DAYLIGHT
BEGIN:STANDARD
TZOFFSETFROM:-0400
TZOFFSETTO:-0500
TZNAME:EST
DTSTART:20251102T060000
END:STANDARD
BEGIN:DAYLIGHT
TZOFFSETFROM:-0500
TZOFFSETTO:-0400
TZNAME:EDT
DTSTART:20260308T070000
END:DAYLIGHT
BEGIN:STANDARD
TZOFFSETFROM:-0400
TZOFFSETTO:-0500
TZNAME:EST
DTSTART:20261101T060000
END:STANDARD
END:VTIMEZONE
BEGIN:VEVENT
DTSTART;TZID=America/New_York:20250627T150000
DTEND;TZID=America/New_York:20250627T160000
DTSTAMP:20260421T163706
CREATED:20250610T151639Z
LAST-MODIFIED:20250625T214815Z
UID:3638-1751036400-1751040000@impact-mh.org
SUMMARY:IMPACT-MH Monthly Seminar: Machine learning paradigms for single subject prediction
DESCRIPTION:Please join us for the next IMPACT-MH seminar\, featuring Dr. Danilo Bzdok. Dr. Bzdok is a medical doctor and computer scientist with a dual background in systems neuroscience and machine learning algorithms. After training at RWTH Aachen University (Germany)\, Université de Lausanne (Switzerland)\, and Harvard Medical School (USA)\, he completed one Ph.D. in cognitive neuroscience (Research Center Juelich\, Germany) and one Ph.D. in computer science in machine learning statistics at INRIA Saclay and Neurospin (France).  \n\n\n\nDanilo currently serves as Associate Professor at McGill’s Faculty of Medicine and as Canada CIFAR AI Chair at Mila – Quebec Artificial Intelligence Institute\, Montreal\, Canada\, including cross-appointments at the McConnell Brain Imaging Center\, Montreal Neurological Institute\, Ludmer Centre for Neuroinformatics and Mental Health\, and the School of Computer Science at McGill University. His interdisciplinary research activity centers on narrowing knowledge gaps in the brain basis of human-defining types of thinking\, with a special focus on the higher association cortex in health and disease.
URL:https://impact-mh.org/event/impact-mh-monthly-seminar-machine-learning-paradigms-for-single-subject-prediction/
END:VEVENT
END:VCALENDAR