BEGIN:VCALENDAR
VERSION:2.0
PRODID:-//IMPACT-MH - ECPv6.15.13//NONSGML v1.0//EN
CALSCALE:GREGORIAN
METHOD:PUBLISH
X-WR-CALNAME:IMPACT-MH
X-ORIGINAL-URL:https://impact-mh.org
X-WR-CALDESC:Events for IMPACT-MH
REFRESH-INTERVAL;VALUE=DURATION:PT1H
X-Robots-Tag:noindex
X-PUBLISHED-TTL:PT1H
BEGIN:VTIMEZONE
TZID:UTC
BEGIN:STANDARD
TZOFFSETFROM:+0000
TZOFFSETTO:+0000
TZNAME:UTC
DTSTART:20240101T000000
END:STANDARD
END:VTIMEZONE
BEGIN:VEVENT
DTSTART;TZID=UTC:20250414T150000
DTEND;TZID=UTC:20250414T160000
DTSTAMP:20260421T214541
CREATED:20250403T183054Z
LAST-MODIFIED:20250403T183724Z
UID:2539-1744642800-1744646400@impact-mh.org
SUMMARY:Isaac R. Galatzer-Levy\, PhD: Generative Psychometrics
DESCRIPTION:
URL:https://impact-mh.org/event/isaac-r-galat-zer-lev-y-phd-generative-psychometrics/
END:VEVENT
BEGIN:VEVENT
DTSTART;TZID=UTC:20250328T150000
DTEND;TZID=UTC:20250328T160000
DTSTAMP:20260421T214541
CREATED:20250320T214037Z
LAST-MODIFIED:20250320T214038Z
UID:2451-1743174000-1743177600@impact-mh.org
SUMMARY:IMPACT-MH Monthly Seminar-A Neurocomputational Framework of Social Connections
DESCRIPTION:IMPACT-MH Is excited to announce that our next monthly seminar series will be presented by Dr. Xiaosi Gu. Dr. Gu is a tenured Associate Professor in the Departments of Psychiatry\, Neuroscience\, and Artificial Intelligence and Director of the Center for Computational Psychiatry at the Icahn School of Medicine at Mount Sinai in New York City. Her research examines the neural computations underlying higher-order cognition in humans such as reward and social decision-making\, using a combination of computational modeling\, neuroimaging\, and intracranial recording techniques. She is currently leading multiple NIH and private foundation grants to study on how these processes might go awry across various psychiatric disorders\, including depression\, autism\, personality disorders\, and drug addiction.
URL:https://impact-mh.org/event/impact-mh-monthly-seminar-a-neurocomputational-framework-of-social-connections/
END:VEVENT
BEGIN:VEVENT
DTSTART;TZID=UTC:20250326T003000
DTEND;TZID=UTC:20250326T013000
DTSTAMP:20260421T214541
CREATED:20250305T213622Z
LAST-MODIFIED:20250306T213352Z
UID:2348-1742949000-1742952600@impact-mh.org
SUMMARY:Data Analytics Working Group (DAWG)-Dr. Guillermo Cecchi
DESCRIPTION:Dr. Guillermo Cecchi will be presenting on analyses of patient-doctor interactions\, smartphone use patterns and audio diaries\, and EHR based clinical information that were done as part of the PREDiCTOR (Phenotypes REimagined to Define Clinical Treatment and Outcome Research) project.  
URL:https://impact-mh.org/event/data-analytics-working-group-dawg-dr-guillermo-cecchi/
END:VEVENT
BEGIN:VEVENT
DTSTART;TZID=UTC:20250310T150000
DTEND;TZID=UTC:20250310T160000
DTSTAMP:20260421T214541
CREATED:20250226T002550Z
LAST-MODIFIED:20250306T205853Z
UID:2274-1741618800-1741622400@impact-mh.org
SUMMARY:Dr. Godfrey Pearlson: Lessons from the B-SNIP Consortium
DESCRIPTION:
URL:https://impact-mh.org/event/dr-godfrey-pearlson-lessons-from-the-b-snip-consortium/
END:VEVENT
BEGIN:VEVENT
DTSTART;TZID=UTC:20250228T150000
DTEND;TZID=UTC:20250228T160000
DTSTAMP:20260421T214541
CREATED:20250218T005653Z
LAST-MODIFIED:20250218T005653Z
UID:2230-1740754800-1740758400@impact-mh.org
SUMMARY:IMPACT-MH Monthly Seminar
DESCRIPTION:
URL:https://impact-mh.org/event/impact-mh-monthly-seminar-2/
END:VEVENT
BEGIN:VEVENT
DTSTART;TZID=UTC:20250227T130000
DTEND;TZID=UTC:20250227T143000
DTSTAMP:20260421T214541
CREATED:20250308T005727Z
LAST-MODIFIED:20250308T005728Z
UID:2363-1740661200-1740666600@impact-mh.org
SUMMARY:Feb Deindentification Workshop
DESCRIPTION:
URL:https://impact-mh.org/event/feb-deindentification-workshop/
END:VEVENT
BEGIN:VEVENT
DTSTART;TZID=UTC:20250227T130000
DTEND;TZID=UTC:20250227T143000
DTSTAMP:20260421T214541
CREATED:20250218T005802Z
LAST-MODIFIED:20250218T005802Z
UID:2232-1740661200-1740666600@impact-mh.org
SUMMARY:De-identification workshop
DESCRIPTION:
URL:https://impact-mh.org/event/de-identification-workshop/
END:VEVENT
BEGIN:VEVENT
DTSTART;TZID=UTC:20250210T150000
DTEND;TZID=UTC:20250210T160000
DTSTAMP:20260421T214541
CREATED:20250313T183942Z
LAST-MODIFIED:20250313T183942Z
UID:2396-1739199600-1739203200@impact-mh.org
SUMMARY:Meredith L. Wallace\, Ph.D.: Large Cohort\, Post-Hoc Data Harmonization
DESCRIPTION:
URL:https://impact-mh.org/event/meredith-l-wallace-ph-d-large-cohort-post-hoc-data-harmonization/
END:VEVENT
BEGIN:VEVENT
DTSTART;TZID=UTC:20250124T150000
DTEND;TZID=UTC:20250124T160000
DTSTAMP:20260421T214541
CREATED:20250110T205621Z
LAST-MODIFIED:20250115T015128Z
UID:2110-1737730800-1737734400@impact-mh.org
SUMMARY:IMPACT-MH Monthly Seminar
DESCRIPTION:We will share an introduction to the history and fundamentals of the RDoC framework\, with examples from studies that demonstrate how RDoC principles can be applied to a range of mental health questions. We will also discuss key ways in which the framework has evolved since its inception\, and how we can benefit from IMPACT-MH’s collective wisdom and data to continue improving approaches to mental health research. \n\n\n\nJenni Pacheco\, Ph.D.\, is a Scientific Program Manager for the Research Domain Criteria (RDoC) Unit at the National Institute of Mental Health (NIMH)\, and a Program Officer for the Attention Deficit\, Disruptive Behaviors\, and Disorders of Behavioral Dysregulation Program within the Division of Translational Research. \n\n\n\nBecky Berman\, Ph.D.\, is also a Scientific Program Manager for the RDoC Unit at NIMH and serves as Science Officer for the IMPACT-MH U01 projects.
URL:https://impact-mh.org/event/impact-mh-monthly-seminar/
END:VEVENT
END:VCALENDAR