BEGIN:VCALENDAR
VERSION:2.0
PRODID:-//IMPACT-MH - ECPv6.15.13//NONSGML v1.0//EN
CALSCALE:GREGORIAN
METHOD:PUBLISH
X-WR-CALNAME:IMPACT-MH
X-ORIGINAL-URL:https://impact-mh.org
X-WR-CALDESC:Events for IMPACT-MH
REFRESH-INTERVAL;VALUE=DURATION:PT1H
X-Robots-Tag:noindex
X-PUBLISHED-TTL:PT1H
BEGIN:VTIMEZONE
TZID:America/New_York
BEGIN:DAYLIGHT
TZOFFSETFROM:-0500
TZOFFSETTO:-0400
TZNAME:EDT
DTSTART:20250309T070000
END:DAYLIGHT
BEGIN:STANDARD
TZOFFSETFROM:-0400
TZOFFSETTO:-0500
TZNAME:EST
DTSTART:20251102T060000
END:STANDARD
BEGIN:DAYLIGHT
TZOFFSETFROM:-0500
TZOFFSETTO:-0400
TZNAME:EDT
DTSTART:20260308T070000
END:DAYLIGHT
BEGIN:STANDARD
TZOFFSETFROM:-0400
TZOFFSETTO:-0500
TZNAME:EST
DTSTART:20261101T060000
END:STANDARD
BEGIN:DAYLIGHT
TZOFFSETFROM:-0500
TZOFFSETTO:-0400
TZNAME:EDT
DTSTART:20270314T070000
END:DAYLIGHT
BEGIN:STANDARD
TZOFFSETFROM:-0400
TZOFFSETTO:-0500
TZNAME:EST
DTSTART:20271107T060000
END:STANDARD
END:VTIMEZONE
BEGIN:VEVENT
DTSTART;TZID=America/New_York:20260921T123000
DTEND;TZID=America/New_York:20260922T150000
DTSTAMP:20260419T111135
CREATED:20260211T164952Z
LAST-MODIFIED:20260223T181600Z
UID:5200-1789993800-1790089200@impact-mh.org
SUMMARY:Annual Consortium Meeting In-Person 2026
DESCRIPTION:This meeting will take place in person\, with a hybrid remote participation option available. \n\n\n\nAdditional logistical details will be shared once in-person attendance is finalized. Please note that meals will not be provided. We are currently seeking sponsors to support the event. \n\n\n\nKindly respond the questionnaire by February 25 to assist with planning and accommodations.
URL:https://impact-mh.org/event/annual-consortium-meeting-in-person-2026/
LOCATION:National Institutes of Health (NIH)\, 6001 Executive Blvd\, Suite 2136\, Rockville\, Maryland\, 20852
END:VEVENT
END:VCALENDAR