BEGIN:VCALENDAR
VERSION:2.0
PRODID:-//IMPACT-MH - ECPv6.15.13//NONSGML v1.0//EN
CALSCALE:GREGORIAN
METHOD:PUBLISH
X-WR-CALNAME:IMPACT-MH
X-ORIGINAL-URL:https://impact-mh.org
X-WR-CALDESC:Events for IMPACT-MH
REFRESH-INTERVAL;VALUE=DURATION:PT1H
X-Robots-Tag:noindex
X-PUBLISHED-TTL:PT1H
BEGIN:VTIMEZONE
TZID:UTC
BEGIN:STANDARD
TZOFFSETFROM:+0000
TZOFFSETTO:+0000
TZNAME:UTC
DTSTART:20240101T000000
END:STANDARD
END:VTIMEZONE
BEGIN:VEVENT
DTSTART;TZID=UTC:20250210T150000
DTEND;TZID=UTC:20250210T160000
DTSTAMP:20260419T223610
CREATED:20250313T183942Z
LAST-MODIFIED:20250313T183942Z
UID:2396-1739199600-1739203200@impact-mh.org
SUMMARY:Meredith L. Wallace\, Ph.D.: Large Cohort\, Post-Hoc Data Harmonization
DESCRIPTION:
URL:https://impact-mh.org/event/meredith-l-wallace-ph-d-large-cohort-post-hoc-data-harmonization/
END:VEVENT
BEGIN:VEVENT
DTSTART;TZID=UTC:20250124T150000
DTEND;TZID=UTC:20250124T160000
DTSTAMP:20260419T223610
CREATED:20250110T205621Z
LAST-MODIFIED:20250115T015128Z
UID:2110-1737730800-1737734400@impact-mh.org
SUMMARY:IMPACT-MH Monthly Seminar
DESCRIPTION:We will share an introduction to the history and fundamentals of the RDoC framework\, with examples from studies that demonstrate how RDoC principles can be applied to a range of mental health questions. We will also discuss key ways in which the framework has evolved since its inception\, and how we can benefit from IMPACT-MH’s collective wisdom and data to continue improving approaches to mental health research. \n\n\n\nJenni Pacheco\, Ph.D.\, is a Scientific Program Manager for the Research Domain Criteria (RDoC) Unit at the National Institute of Mental Health (NIMH)\, and a Program Officer for the Attention Deficit\, Disruptive Behaviors\, and Disorders of Behavioral Dysregulation Program within the Division of Translational Research. \n\n\n\nBecky Berman\, Ph.D.\, is also a Scientific Program Manager for the RDoC Unit at NIMH and serves as Science Officer for the IMPACT-MH U01 projects.
URL:https://impact-mh.org/event/impact-mh-monthly-seminar/
END:VEVENT
END:VCALENDAR