BEGIN:VCALENDAR
VERSION:2.0
PRODID:-//IMPACT-MH - ECPv6.15.13//NONSGML v1.0//EN
CALSCALE:GREGORIAN
METHOD:PUBLISH
X-ORIGINAL-URL:https://impact-mh.org
X-WR-CALDESC:Events for IMPACT-MH
REFRESH-INTERVAL;VALUE=DURATION:PT1H
X-Robots-Tag:noindex
X-PUBLISHED-TTL:PT1H
BEGIN:VTIMEZONE
TZID:UTC
BEGIN:STANDARD
TZOFFSETFROM:+0000
TZOFFSETTO:+0000
TZNAME:UTC
DTSTART:20240101T000000
END:STANDARD
END:VTIMEZONE
BEGIN:VEVENT
DTSTART;TZID=UTC:20250502T150000
DTEND;TZID=UTC:20250502T160000
DTSTAMP:20260421T163937
CREATED:20250417T194253Z
LAST-MODIFIED:20250417T194716Z
UID:2742-1746198000-1746201600@impact-mh.org
SUMMARY:IMPACT-MH Monthly Seminar
DESCRIPTION:IMPACT is excited to announce that our next seminar series on Friday\, May 2nd at 3:00pm will be presented by Dr. David Epstein. David Epstein received his doctorate in Biopsychology & Behavioral Neuroscience from the Psychology Department at Rutgers University in 1998.  Since then\, he has conducted human research at the National Institute on Drug Abuse in Baltimore\, where he is now a tenure-track investigator.  He leads a research group called RAPT: the “Real-world Assessment\, Prediction\, and Treatment” unit.  He has over 20 years of experience in EMA (ecological momentary assessment) in people who use drugs nonmedically.  EMA is the focus of most of his publications\, which number almost 200 and have been cited over 12\,000 times.  These publications include the first large-scale deployment of EMA in people who use heroin and cocaine\, and more recently the first-ever EMA study of people who use the legal drug kratom.  He is preparing a program of studies on boredom and what he calls its opposites (such as curiosity and psychological richness) as risk/protective factors and mobile-intervention targets for people who use cannabis. \n\n\n\n\nJoin meeting: https://yale.zoom.us/j/2034150643?omn=95730765502&from=addonMeeting ID: 203 415 0643
URL:https://impact-mh.org/event/impact-mh-monthly-seminar-3/
END:VEVENT
BEGIN:VEVENT
DTSTART;TZID=UTC:20250512T150000
DTEND;TZID=UTC:20250512T160000
DTSTAMP:20260421T163937
CREATED:20250506T221315Z
LAST-MODIFIED:20250506T221316Z
UID:3341-1747062000-1747065600@impact-mh.org
SUMMARY:Consortium Seminar: Roy Perlis-AI in Psychiatry\, from ELIZ A to Evil Robots
DESCRIPTION:
URL:https://impact-mh.org/event/consortium-seminar-roy-perlis-ai-in-psychiatry-from-eliz-a-to-evil-robots/
END:VEVENT
BEGIN:VEVENT
DTSTART;TZID=UTC:20250528T123000
DTEND;TZID=UTC:20250528T133000
DTSTAMP:20260421T163937
CREATED:20250513T183439Z
LAST-MODIFIED:20250819T171733Z
UID:3402-1748435400-1748439000@impact-mh.org
SUMMARY:[DAWG] Karina Pereira-Lima - Target Trial Emulation of Sleep and Physical Activity Interventions for Depression Prevention
DESCRIPTION:
URL:https://impact-mh.org/event/dawg-karina-pereira-lima-target-trial-emulation-of-sleep-and-physical-activity-interventions-for-depression-prevention/
END:VEVENT
END:VCALENDAR