BEGIN:VCALENDAR
VERSION:2.0
PRODID:-//IMPACT-MH - ECPv6.15.13//NONSGML v1.0//EN
CALSCALE:GREGORIAN
METHOD:PUBLISH
X-WR-CALNAME:IMPACT-MH
X-ORIGINAL-URL:https://impact-mh.org
X-WR-CALDESC:Events for IMPACT-MH
REFRESH-INTERVAL;VALUE=DURATION:PT1H
X-Robots-Tag:noindex
X-PUBLISHED-TTL:PT1H
BEGIN:VTIMEZONE
TZID:America/New_York
BEGIN:DAYLIGHT
TZOFFSETFROM:-0500
TZOFFSETTO:-0400
TZNAME:EDT
DTSTART:20240310T070000
END:DAYLIGHT
BEGIN:STANDARD
TZOFFSETFROM:-0400
TZOFFSETTO:-0500
TZNAME:EST
DTSTART:20241103T060000
END:STANDARD
BEGIN:DAYLIGHT
TZOFFSETFROM:-0500
TZOFFSETTO:-0400
TZNAME:EDT
DTSTART:20250309T070000
END:DAYLIGHT
BEGIN:STANDARD
TZOFFSETFROM:-0400
TZOFFSETTO:-0500
TZNAME:EST
DTSTART:20251102T060000
END:STANDARD
BEGIN:DAYLIGHT
TZOFFSETFROM:-0500
TZOFFSETTO:-0400
TZNAME:EDT
DTSTART:20260308T070000
END:DAYLIGHT
BEGIN:STANDARD
TZOFFSETFROM:-0400
TZOFFSETTO:-0500
TZNAME:EST
DTSTART:20261101T060000
END:STANDARD
END:VTIMEZONE
BEGIN:VEVENT
DTSTART;TZID=America/New_York:20251013T150000
DTEND;TZID=America/New_York:20251013T160000
DTSTAMP:20260421T075004
CREATED:20251002T142019Z
LAST-MODIFIED:20251002T142301Z
UID:4550-1760367600-1760371200@impact-mh.org
SUMMARY:Consortium Seminar: PREDiCTOR: Building Models for Robust and Dynamic Outcome Prediction in Mental Health
DESCRIPTION:
URL:https://impact-mh.org/event/consortium-seminar-predictor-building-models-for-robust-and-dynamic-outcome-prediction-in-mental-health/
ATTACH;FMTTYPE=image/png:https://impact-mh.org/wp-content/uploads/2025/10/Oct-Seminar.png
END:VEVENT
BEGIN:VEVENT
DTSTART;TZID=America/New_York:20251029T120000
DTEND;TZID=America/New_York:20251030T153000
DTSTAMP:20260421T075004
CREATED:20251002T171645Z
LAST-MODIFIED:20251022T193953Z
UID:4586-1761739200-1761838200@impact-mh.org
SUMMARY:Annual Consortium Meeting
DESCRIPTION:Meeting Agenda
URL:https://impact-mh.org/event/annual-consortium-meeting/
END:VEVENT
END:VCALENDAR